BEGIN:VCALENDAR
VERSION:2.0
PRODID:-//eventon.com NONSGML v1.0//EN
CALSCALE:GREGORIAN
METHOD:PUBLISH
BEGIN:VEVENT
UID:69ea1c44e9c18
DTSTAMP:20260423T131900Z
DTSTART:20260609T200000Z
DTEND:20260609T220000Z
LOCATION:Seymour Church 840 Alger St SE\,  Grand Rapids\,  MI 49507
SUMMARY:Take Two Hygiene Pantry
DESCRIPTION:Our pantry is open on the second Tuesday (affectionately known 
 as Take Two-sday) of each month from 4-6pm.\nhttps://seymour.church/events/
 take-two-hygiene-pantry/var/ri-28.l-L1
URL:https://seymour.church/events/take-two-hygiene-pantry/var/ri-28.l-L1
END:VEVENT
END:VCALENDAR