BEGIN:VCALENDAR
VERSION:2.0
PRODID:-//eventon.com NONSGML v1.0//EN
CALSCALE:GREGORIAN
METHOD:PUBLISH
BEGIN:VEVENT
UID:69ea4a2b71ce7
DTSTAMP:20260423T163451Z
DTSTART:20260106T141500Z
DTEND:20260106T154500Z
LOCATION:Seymour Church 840 Alger St SE\,  Grand Rapids\,  MI 49507
SUMMARY:Music and Play
DESCRIPTION:Music and playtime for young children and caregivers.\nhttps://
 seymour.church/events/music-and-play/
URL:https://seymour.church/events/music-and-play/
END:VEVENT
END:VCALENDAR