BEGIN:VCALENDAR
VERSION:2.0
PRODID:-//eventon.com NONSGML v1.0//EN
CALSCALE:GREGORIAN
METHOD:PUBLISH
BEGIN:VEVENT
UID:69ea4accd3587
DTSTAMP:20260423T163732Z
DTSTART:20260421T131500Z
DTEND:20260421T144500Z
LOCATION:Seymour Church 840 Alger St SE\,  Grand Rapids\,  MI 49507
SUMMARY:Music and Play
DESCRIPTION:Music and playtime for young children and caregivers.\nhttps://
 seymour.church/events/music-and-play/var/ri-15.l-L1
URL:https://seymour.church/events/music-and-play/var/ri-15.l-L1
END:VEVENT
END:VCALENDAR