BEGIN:VCALENDAR
VERSION:2.0
PRODID:-//eventon.com NONSGML v1.0//EN
CALSCALE:GREGORIAN
METHOD:PUBLISH
BEGIN:VEVENT
UID:69ea3752e43f6
DTSTAMP:20260423T151426Z
DTSTART:20260526T173000Z
DTEND:20260526T220000Z
LOCATION:
SUMMARY:Versiti Blood Drive
DESCRIPTION:We are looking forward to saving lives together at our blood dr
 ive!\nhttps://seymour.church/events/versiti-blood-drive/
URL:https://seymour.church/events/versiti-blood-drive/
END:VEVENT
END:VCALENDAR