BEGIN:VCALENDAR
VERSION:2.0
PRODID:-//eventon.com NONSGML v1.0//EN
CALSCALE:GREGORIAN
METHOD:PUBLISH
BEGIN:VEVENT
UID:69ea3b1f18e45
DTSTAMP:20260423T153039Z
DTSTART:20260622T220000Z
DTEND:20260623T003000Z
LOCATION:Seymour Church 840 Alger St SE\,  Grand Rapids\,  MI 49507
SUMMARY:Everest Summer VBS at Seymour Church
DESCRIPTION:Kids in Pre-K through 5th grade (including rising 6th graders) 
 are invited to register for Seymour Church&#8217;s 2026 Summer VBS!  Join 
 us from 6:00 pm to 8:30 pm on June 22-24for an action packed time of joyful
  laughter\,  energetic games\,  and children learning about God&#8217;s lov
 e in an exciting way. [..]\nhttps://seymour.church/events/magnified-summer
 -vbs-at-seymour-church/
URL:https://seymour.church/events/magnified-summer-vbs-at-seymour-church/
END:VEVENT
END:VCALENDAR